Workbook
Name \a: #REF!
Name \a: #REF!
Name \a: #REF!
Name \a: #REF!
Name \a: #REF!
Name \a: #REF!
Name \a: #REF!
Name \a: #REF!
Name \a: #REF!
Name \E: #REF!
Name \E: #REF!
Name \E: #REF!
Name \E: #REF!
Name \E: #REF!
Name \E: #REF!
Name \E: #REF!
Name \E: #REF!
Name \E: #REF!
Name \m: #REF!
Name \m: #REF!
Name \m: #REF!
Name \m: #REF!
Name \m: #REF!
Name \m: #REF!
Name \m: #REF!
Name \m: #REF!
Name \m: #REF!
Name \n: #REF!
Name \n: #REF!
Name \n: #REF!
Name \n: #REF!
Name \n: #REF!
Name \n: #REF!
Name \n: #REF!
Name \n: #REF!
Name \n: #REF!
Name \o: #REF!
Name \o: #REF!
Name \o: #REF!
Name \o: #REF!
Name \o: #REF!
Name \o: #REF!
Name \o: #REF!
Name \o: #REF!
Name \o: #REF!
Name \WERYH: #REF!
Name \WERYH: #REF!
Name \WERYH: #REF!
Name \WERYH: #REF!
Name \WERYH: #REF!
Name \WERYH: #REF!
Name \WERYH: #REF!
Name \WERYH: #REF!
Name \WERYH: #REF!
Name \ыфвп: #REF!
Name \ыфвп: #REF!
Name \ыфвп: #REF!
Name \ыфвп: #REF!
Name \ыфвп: #REF!
Name \ыфвп: #REF!

Sheet Калькуляция
I1: Приложение №2 к приказу
I2: Министерства здравоохранения РК
I3: №13 от 10 января 2002 года
L5: Форма 2.2
C6: К А Л Ь К У Л Я Ц И Я
B8: наименование организации | C8: =[84]прейскурант.!A4 -> ГКП на ПХВ "Городская больница №2" УЗ г.Шымкент
B9: Дата утверждения
B10: Номер прейскуранта
B11: Калькуляционная единица | D11: одна услуга
A13: № п/п | B13: Наименование услуг | C13: Прямые затраты | G13: Всего прямые затраты | H13: Накладные расходы | J13: Всего себестоимость услуг | K13: Рентабельность | M13: Цена услуги с учетом рентабельности (прибыли)
C14: материальные затраты | D14: затраты на оплату труда | F14: износ основных средств
C15: сырье и материалы | D15: заработная плата работников выполняющих данную услугу | E15: взносы работодателей | H15: % | I15: в тенге | K15: % | L15: в тенге
A16: 1 | B16: 2 | C16: 3 | D16: 6 | E16: 7 | F16: 8 | G16: 9 | H16: 10 | I16: 11 | J16: 12 | K16: 13 | L16: 14 | M16: 15 | N16: Тарификатор
B17: Консультативный прием
A18: =[84]хронометраж!A8 -> KON 01 | B18: =[85]Калькуляция!B20 -> Консультативный прием терапевтического профиля (терапевт, педиатр, гастроэтеролог, эндокринолог, невропотолог, ревматолог, пульмонолог, кардиолог, аллерголог, нефролог, инфекционист, сосудистый хирург, гематолог) | C18: =[85]Калькуляция!C20 -> 267.766 | D18: =[85]Калькуляция!D20 -> 1446.1178 | E18: =[85]Калькуляция!E20 -> 159.07296 | F18: =[85]Калькуляция!F20 -> 66.133947 | G18: =SUM(C18:F18) -> 1939.0907 | H18: 1.5 | I18: =D18*H18 -> 2169.1767 | J18: =G18+I18 -> 4108.2674 | K18: 0.2 | L18: =J18*K18 -> 821.65348 | M18: =ROUNDUP((J18+L18)/100,0)*100 -> 5000 | N18: 2200-3000
A19: =[84]хронометраж!A9 -> KON 02 | B19: =[84]хронометраж!B9 -> Консультативный прием хирургического профиля (акушер-гинеколог, онколог, маммолог, офтальмолог, профпатолог, проктолог, хирург, уролог, оториноларинголог, стомотолог) | C19: ='[84]ЛСИМН (кон)'!H24 -> 207.846 | D19: =[84]тариф!AC12+[84]тариф!AC14+[84]тариф!AC13 -> 1649.9007 | E19: =[84]тариф!AD12+[84]тариф!AD14+[84]тариф!AD13 -> 181.48908 | F19: ='[84]Расч износ здан'!$K$22/8 -> 66.133947 | G19: =SUM(C19:F19) -> 2105.3697 | H19: =$H$18 -> 1.5 | I19: =D19*H19 -> 2474.851 | J19: =G19+I19 -> 4580.2208 | K19: 0.2 | L19: =J19*K19 -> 916.04415 | M19: =ROUNDUP((J19+L19)/100,0)*100 -> 5500
A20: KON 04 | B20: Консультация нейрохирурга | C20: ='[84]ЛСИМН (кон)'!H31 -> 235.3308 | D20: =[84]тариф!AC15+[84]тариф!AC16+[84]тариф!AC17 -> 3057.817 | E20: =[84]тариф!AD15+[84]тариф!AD16+[84]тариф!AD17 -> 336.35987 | F20: ='[84]Расч износ здан'!$K$22/8 -> 66.133947 | G20: =SUM(C20:F20) -> 3695.6416 | H20: =$H$18 -> 1.5 | I20: =D20*H20 -> 4586.7255 | J20: =G20+I20 -> 8282.3671 | K20: 0.2 | L20: =J20*K20 -> 1656.4734 | M20: =ROUNDUP((J20+L20)/100,0)*100 -> 10000
B21: =[84]хронометраж!A11 -> Консультативный прием на дому
A22: =[84]хронометраж!A12 -> KPD 01 | B22: =[84]хронометраж!B12 -> Консультативный прием терапевтического профиля (терапевт, педиатр, гастроэтеролог, эндокринолог, невропотолог, ревматолог, пульмонолог, кардиолог, аллерголог, нефролог, инфекционист, сосудистый хирург) на дому | C22: ='[84]ЛСИМН (кон)'!H38 -> 267.766 | D22: =[84]тариф!AC18+[84]тариф!AC19+[84]тариф!AC20 -> 2191.6599 | E22: =[84]тариф!AD18+[84]тариф!AD19+[84]тариф!AD20 -> 241.08259 | F22: ='[84]износ ОС'!L16 -> 100.75397 | G22: =SUM(C22:F22) -> 2801.2625 | H22: 2 | I22: =D22*H22 -> 4383.3199 | J22: =G22+I22 -> 7184.5823 | K22: 0.2 | L22: =J22*K22 -> 1436.9165 | M22: =ROUNDUP((J22+L22)/100,0)*100 -> 8700
A23: =[84]хронометраж!A13 -> KPD 02 | B23: =[84]хронометраж!B13 -> Консультативный прием хирургического профиля (акушер-гинеколог, онколог, маммолог, офтальмолог, профпатолог, проктолог, хирург, уролог, оториноларинголог, стомотолог) на дому | C23: ='[84]ЛСИМН (кон)'!H45 -> 207.846 | D23: =[84]тариф!AC21+[84]тариф!AC23+[84]тариф!AC22 -> 2348.4154 | E23: =[84]тариф!AD21+[84]тариф!AD23+[84]тариф!AD20 -> 243.88407 | F23: ='[84]износ ОС'!L16 -> 100.75397 | G23: =SUM(C23:F23) -> 2900.8994 | H23: 2 | I23: =D23*H23 -> 4696.8308 | J23: =G23+I23 -> 7597.7302 | K23: =$K$18 -> 0.2 | L23: =J23*K23 -> 1519.546 | M23: =ROUNDUP((J23+L23)/100,0)*100 -> 9200
B24: Медицинский осмотр
A25: MOO 01 | B25: Медицинское обследование лиц, поступающих на учебу, работу по форме№075/У (терапевт, нарколог, психиатр, наркотест, профпатолог,микрореакция, флюорография) | C25: 1100 | D25: =[84]тариф!AC26+[84]тариф!AC27+[84]тариф!AC28+[84]тариф!AC29+[84]тариф!AC36+[84]тариф!AC35 -> 807.86295 | E25: =[84]тариф!AD26+[84]тариф!AD27+[84]тариф!AD28+[84]тариф!AD29+[84]тариф!AD36+[84]тариф!AD35 -> 88.864925 | F25: ='[84]Расч износ здан'!$K$22/8 -> 66.133947 | G25: =SUM(C25:F25) -> 2062.8618 | H25: =$H$18 -> 1.5 | I25: =D25*H25 -> 1211.7944 | J25: =G25+I25 -> 3274.6563 | K25: 0.2 | L25: =J25*K25 -> 654.93125 | M25: =ROUNDUP((J25+L25)/100,0)*100 -> 4000
B26: =[84]хронометраж!A14 -> Рентген
A27: REN 01 | B27: ='[86]калькуляция рентген'!B7 -> Рентгенография таза | C27: ='[86]калькуляция рентген'!J7 -> 1145.71 | D27: ='[86]калькуляция рентген'!H7 -> 170.14254 | E27: ='[86]калькуляция рентген'!I7 -> 14.547187 | F27: ='[86]калькуляция рентген'!K7 -> 974.16388 | G27: =SUM(C27:F27) -> 2304.5636 | H27: 1.14 | I27: =D27*H27 -> 193.9625 | J27: =G27+I27 -> 2498.5261 | K27: =$K$18 -> 0.2 | L27: =J27*K27 -> 499.70522 | M27: =ROUNDUP((J27+L27)/100,0)*100 -> 3000 | N27: 3000 | O27: =M27-N27 -> 0
A28: REN 02 | B28: ='[86]калькуляция рентген'!B8 -> R-графия тазобедренного сустава | C28: ='[86]калькуляция рентген'!J8 -> 1145.71 | D28: ='[86]калькуляция рентген'!H8 -> 170.14254 | E28: ='[86]калькуляция рентген'!I8 -> 14.547187 | F28: ='[86]калькуляция рентген'!K8 -> 974.16388 | G28: =SUM(C28:F28) -> 2304.5636 | H28: 1.14 | I28: =D28*H28 -> 193.9625 | J28: =G28+I28 -> 2498.5261 | K28: =$K$18 -> 0.2 | L28: =J28*K28 -> 499.70522 | M28: =ROUNDUP((J28+L28)/100,0)*100 -> 3000 | N28: 3000 | O28: =M28-N28 -> 0
A29: REN 03 | B29: ='[86]калькуляция рентген'!B9 -> R-графия лёгких (обзорная) | C29: ='[86]калькуляция рентген'!J9 -> 1145.71 | D29: ='[86]калькуляция рентген'!H9 -> 173.86738 | E29: ='[86]калькуляция рентген'!I9 -> 14.865661 | F29: ='[86]калькуляция рентген'!K9 -> 974.16388 | G29: =SUM(C29:F29) -> 2308.6069 | H29: 1.14 | I29: =D29*H29 -> 198.20881 | J29: =G29+I29 -> 2506.8157 | K29: =$K$18 -> 0.2 | L29: =J29*K29 -> 501.36315 | M29: =ROUNDUP((J29+L29)/100,0)*100-100 -> 3000 | N29: 3000 | O29: =M29-N29 -> 0
A30: REN 04 | B30: ='[86]калькуляция рентген'!B10 -> R-графия лёгких (боковая) | C30: ='[86]калькуляция рентген'!J10 -> 1145.71 | D30: ='[86]калькуляция рентген'!H10 -> 118.03136 | E30: ='[86]калькуляция рентген'!I10 -> 10.091681 | F30: ='[86]калькуляция рентген'!K10 -> 711.88899 | G30: =SUM(C30:F30) -> 1985.722 | H30: 1.14 | I30: =D30*H30 -> 134.55575 | J30: =G30+I30 -> 2120.2778 | K30: =$K$18 -> 0.2 | L30: =J30*K30 -> 424.05556 | M30: =ROUNDUP((J30+L30)/100,0)*100-100 -> 2500 | N30: 2500 | O30: =M30-N30 -> 0
A31: REN 05 | B31: ='[86]калькуляция рентген'!B11 -> R-графия брюшной полости | C31: ='[86]калькуляция рентген'!J11 -> 1145.71 | D31: ='[86]калькуляция рентген'!H11 -> 223.30751 | E31: ='[86]калькуляция рентген'!I11 -> 19.092792 | F31: ='[86]калькуляция рентген'!K11 -> 1311.3745 | G31: =SUM(C31:F31) -> 2699.4848 | H31: 1.14 | I31: =D31*H31 -> 254.57056 | J31: =G31+I31 -> 2954.0553 | K31: =$K$18 -> 0.2 | L31: =J31*K31 -> 590.81106 | M31: =ROUNDUP((J31+L31)/100,0)*100-100 -> 3500 | N31: 3500 | O31: =M31-N31 -> 0
A32: REN 06 | B32: ='[86]калькуляция рентген'!B12 -> Внутривенная урография | C32: ='[86]калькуляция рентген'!J12 -> 1145.71 | D32: ='[86]калькуляция рентген'!H12 -> 616.79415 | E32: ='[86]калькуляция рентген'!I12 -> 52.7359 | F32: ='[86]калькуляция рентген'!K12 -> 3334.6379 | G32: =SUM(C32:F32) -> 5149.878 | H32: 1.14 | I32: =D32*H32 -> 703.14533 | J32: =G32+I32 -> 5853.0233 | K32: =$K$18 -> 0.2 | L32: =J32*K32 -> 1170.6047 | M32: =ROUNDUP((J32+L32)/100,0)*100-100 -> 7000 | N32: 7000 | O32: =M32-N32 -> 0
A33: REN 07 | B33: ='[86]калькуляция рентген'!B13 -> R-графия грудного отдела позвоночника ( в 1 проекции) | C33: ='[86]калькуляция рентген'!J13 -> 1145.71 | D33: ='[86]калькуляция рентген'!H13 -> 284.44906 | E33: ='[86]калькуляция рентген'!I13 -> 24.320394 | F33: ='[86]калькуляция рентген'!K13 -> 1686.0529 | G33: =SUM(C33:F33) -> 3140.5323 | H33: 1.14 | I33: =D33*H33 -> 324.27193 | J33: =G33+I33 -> 3464.8043 | K33: =$K$18 -> 0.2 | L33: =J33*K33 -> 692.96085 | M33: =ROUNDUP((J33+L33)/100,0)*100 -> 4200 | N33: 4200 | O33: =M33-N33 -> 0
A34: REN 08 | B34: ='[86]калькуляция рентген'!B14 -> R-графия грудного отдела позвоночника ( в 2 проекции) | C34: ='[86]калькуляция рентген'!J14 -> 1145.71 | D34: ='[86]калькуляция рентген'!H14 -> 284.44906 | E34: ='[86]калькуляция рентген'!I14 -> 24.320394 | F34: ='[86]калькуляция рентген'!K14 -> 1686.0529 | G34: =SUM(C34:F34) -> 3140.5323 | H34: 1.14 | I34: =D34*H34 -> 324.27193 | J34: =G34+I34 -> 3464.8043 | K34: =$K$18 -> 0.2 | L34: =J34*K34 -> 692.96085 | M34: =ROUNDUP((J34+L34)/100,0)*100 -> 4200 | N34: 4200 | O34: =M34-N34 -> 0
A35: REN 09 | B35: ='[86]калькуляция рентген'!B15 -> R-графия черепа ( в 1 проекции) | C35: ='[86]калькуляция рентген'!J15 -> 499.11 | D35: ='[86]калькуляция рентген'!H15 -> 273.81972 | E35: ='[86]калькуляция рентген'!I15 -> 23.411586 | F35: ='[86]калькуляция рентген'!K15 -> 1592.3833 | G35: =SUM(C35:F35) -> 2388.7246 | H35: 1.14 | I35: =D35*H35 -> 312.15448 | J35: =G35+I35 -> 2700.8791 | K35: =$K$18 -> 0.2 | L35: =J35*K35 -> 540.17581 | M35: =ROUNDUP((J35+L35)/100,0)*100-100 -> 3200 | N35: 3200 | O35: =M35-N35 -> 0
A36: REN 10 | B36: ='[86]калькуляция рентген'!B16 -> R-графия черепа ( в 2 проекциях) | C36: ='[86]калькуляция рентген'!J16 -> 499.11 | D36: ='[86]калькуляция рентген'!H16 -> 248.30932 | E36: ='[86]калькуляция рентген'!I16 -> 21.230446 | F36: ='[86]калькуляция рентген'!K16 -> 1367.5762 | G36: =SUM(C36:F36) -> 2136.226 | H36: 1.14 | I36: =D36*H36 -> 283.07262 | J36: =G36+I36 -> 2419.2986 | K36: =$K$18 -> 0.2 | L36: =J36*K36 -> 483.85972 | M36: =ROUNDUP((J36+L36)/100,0)*100-100 -> 2900 | N36: 2900 | O36: =M36-N36 -> 0
A37: REN 11 | B37: ='[86]калькуляция рентген'!B17 -> R-графия пояснично-крестцового отдела позвоночника ( в 1 проекции) | C37: ='[86]калькуляция рентген'!J17 -> 1145.71 | D37: ='[86]калькуляция рентген'!H17 -> 284.44906 | E37: ='[86]калькуляция рентген'!I17 -> 24.320394 | F37: ='[86]калькуляция рентген'!K17 -> 1686.0529 | G37: =SUM(C37:F37) -> 3140.5323 | H37: 1.14 | I37: =D37*H37 -> 324.27193 | J37: =G37+I37 -> 3464.8043 | K37: =$K$18 -> 0.2 | L37: =J37*K37 -> 692.96085 | M37: =ROUNDUP((J37+L37)/100,0)*100 -> 4200 | N37: 4200 | O37: =M37-N37 -> 0
A38: REN 12 | B38: ='[86]калькуляция рентген'!B18 -> R-графия пояснично-крестцового отдела позвоночника ( в 2 проекциях) | C38: ='[86]калькуляция рентген'!J18 -> 1145.71 | D38: ='[86]калькуляция рентген'!H18 -> 307.8336 | E38: ='[86]калькуляция рентген'!I18 -> 26.319773 | F38: ='[86]калькуляция рентген'!K18 -> 1892.126 | G38: =SUM(C38:F38) -> 3371.9894 | H38: 1.14 | I38: =D38*H38 -> 350.9303 | J38: =G38+I38 -> 3722.9197 | K38: =$K$18 -> 0.2 | L38: =J38*K38 -> 744.58393 | M38: =ROUNDUP((J38+L38)/100,0)*100 -> 4500 | N38: 4500 | O38: =M38-N38 -> 0
A39: REN 13 | B39: ='[86]калькуляция рентген'!B19 -> R-графия шейного отдела позвоночника ( в 1 проекции) | C39: ='[86]калькуляция рентген'!J19 -> 499.11 | D39: ='[86]калькуляция рентген'!H19 -> 269.56799 | E39: ='[86]калькуляция рентген'!I19 -> 23.048063 | F39: ='[86]калькуляция рентген'!K19 -> 1554.9154 | G39: =SUM(C39:F39) -> 2346.6415 | H39: 1.14 | I39: =D39*H39 -> 307.30751 | J39: =G39+I39 -> 2653.949 | K39: =$K$18 -> 0.2 | L39: =J39*K39 -> 530.7898 | M39: =ROUNDUP((J39+L39)/100,0)*100 -> 3200 | N39: 3200 | O39: =M39-N39 -> 0
A40: REN 14 | B40: ='[86]калькуляция рентген'!B20 -> R-графия шейного отдела позвоночника ( в 2 проекциях) | C40: ='[86]калькуляция рентген'!J20 -> 499.11 | D40: ='[86]калькуляция рентген'!H20 -> 305.70773 | E40: ='[86]калькуляция рентген'!I20 -> 26.138011 | F40: ='[86]калькуляция рентген'!K20 -> 1873.3921 | G40: =SUM(C40:F40) -> 2704.3478 | H40: 1.14 | I40: =D40*H40 -> 348.50681 | J40: =G40+I40 -> 3052.8546 | K40: =$K$18 -> 0.2 | L40: =J40*K40 -> 610.57093 | M40: =ROUNDUP((J40+L40)/100,0)*100 -> 3700 | N40: 3700 | O40: =M40-N40 -> 0
A41: REN 15 | B41: ='[86]калькуляция рентген'!B21 -> R-графия трубчатых костей ( в 1 проекциях) | C41: ='[86]калькуляция рентген'!J21 -> 499.11 | D41: ='[86]калькуляция рентген'!H21 -> 202.04884 | E41: ='[86]калькуляция рентген'!I21 -> 17.275176 | F41: ='[86]калькуляция рентген'!K21 -> 1124.0352 | G41: =SUM(C41:F41) -> 1842.4693 | H41: 1.14 | I41: =D41*H41 -> 230.33568 | J41: =G41+I41 -> 2072.8049 | K41: =$K$18 -> 0.2 | L41: =J41*K41 -> 414.56099 | M41: =ROUNDUP((J41+L41)/100,0)*100 -> 2500 | N41: 2500 | O41: =M41-N41 -> 0
A42: REN 16 | B42: ='[86]калькуляция рентген'!B22 -> R-графия трубчатых костей ( в 2 проекциях) | C42: ='[86]калькуляция рентген'!J22 -> 499.11 | D42: ='[86]калькуляция рентген'!H22 -> 267.44212 | E42: ='[86]калькуляция рентген'!I22 -> 22.866301 | F42: ='[86]калькуляция рентген'!K22 -> 1536.1815 | G42: =SUM(C42:F42) -> 2325.5999 | H42: 1.14 | I42: =D42*H42 -> 304.88402 | J42: =G42+I42 -> 2630.4839 | K42: =$K$18 -> 0.2 | L42: =J42*K42 -> 526.09679 | M42: =ROUNDUP((J42+L42)/100,0)*100 -> 3200 | N42: 3200 | O42: =M42-N42 -> 0
A43: REN 17 | B43: ='[86]калькуляция рентген'!B23 -> R-графия коленного сустава ( в 1 проекции ) | C43: ='[86]калькуляция рентген'!J23 -> 499.11 | D43: ='[86]калькуляция рентген'!H23 -> 202.04884 | E43: ='[86]калькуляция рентген'!I23 -> 17.275176 | F43: ='[86]калькуляция рентген'!K23 -> 1124.0352 | G43: =SUM(C43:F43) -> 1842.4693 | H43: 1.14 | I43: =D43*H43 -> 230.33568 | J43: =G43+I43 -> 2072.8049 | K43: =$K$18 -> 0.2 | L43: =J43*K43 -> 414.56099 | M43: =ROUNDUP((J43+L43)/100,0)*100 -> 2500 | N43: 2500 | O43: =M43-N43 -> 0
...

Sheet прейскурант. (2)
D1: Утверждено приказом Главного врача ГКП на ПХВ «Городская больница №2» управления здравоохранения города Шымкент Приложение № 1 к приказу Главного врача ГКП на ПХВ «Городская больница №2» управления здравоохранения города Шымкент от «______» ноября 2022 года № _______ н/қ
A3: ПРЕЙСКУРАНТ ЦЕН ПО ПЛАТНЫМ УСЛУГАМ
A4: ГКП на ПХВ "Городская больница №2" УЗ г.Шымкент
A6: Код услуги | B6: Наименование услуги | C6: Ед.измерения | D6: Стоимость услуги | E6: Примечание
B7: =Калькуляция!B104 -> Гинекологические услуги
A8: =Калькуляция!A105 -> GIN 01 | B8: =Калькуляция!B105 -> Биопсия шейки матки | C8: услуга | D8: =Калькуляция!M105 -> 6000
A9: =Калькуляция!A106 -> GIN 02 | B9: =Калькуляция!B106 -> Кольпоскопия | C9: услуга | D9: =Калькуляция!M106 -> 5000
A10: =Калькуляция!A107 -> GIN 03 | B10: =Калькуляция!B107 -> Массаж гинекологический | C10: услуга | D10: =Калькуляция!M107 -> 2500
A11: =Калькуляция!A108 -> GIN 04 | B11: =Калькуляция!B108 -> Введение ВМС (без стоимости спирали) | C11: услуга | D11: =Калькуляция!M108 -> 4500
A12: =Калькуляция!A109 -> GIN 05 | B12: =Калькуляция!B109 -> Введение ВМС (со стоимостью спирали) | C12: услуга | D12: =Калькуляция!M109 -> 6500
A13: =Калькуляция!A110 -> GIN 06 | B13: =Калькуляция!B110 -> Удаление ВМС | C13: услуга | D13: =Калькуляция!M110 -> 5000
A14: =Калькуляция!A111 -> GIN 07 | B14: =Калькуляция!B111 -> Вакуум-аспирация | C14: услуга | D14: =Калькуляция!M111 -> 10000
A15: =Калькуляция!A112 -> GIN 08 | B15: =Калькуляция!B112 -> Прижигание эрозии (диатермокоагуляция) | C15: услуга | D15: =Калькуляция!M112 -> 10000
A16: =Калькуляция!A113 -> GIN 09 | B16: =Калькуляция!B113 -> Диатермоконизация | C16: услуга | D16: =Калькуляция!M113 -> 15000
A17: =Калькуляция!A114 -> GIN 10 | B17: =Калькуляция!B114 -> Диатермоэксцизия | C17: услуга | D17: =Калькуляция!M114 -> 12000
A18: =Калькуляция!A115 -> GIN 11 | B18: =Калькуляция!B115 -> Забор мазка (гинекологический) | C18: услуга | D18: =Калькуляция!M115 -> 800
A19: =Калькуляция!A116 -> GIN 12 | B19: =Калькуляция!B116 -> Ванночки гинекологические | C19: услуга | D19: =Калькуляция!M116 -> 1000
A20: =Калькуляция!A117 -> GIN 13 | B20: =Калькуляция!B117 -> Введение тампонов с лекарственными средствами (без лекарств) | C20: услуга | D20: =Калькуляция!M117 -> 2000
B21: Гинекологические операции
A22: =Калькуляция!A353 -> GIN 01 | B22: =Калькуляция!B353 -> Медицинский аборт | C22: услуга | D22: =Калькуляция!M353 -> 19000
A23: =Калькуляция!A354 -> GIN 02 | B23: =Калькуляция!B354 -> Клиновидная резекция яичника | C23: услуга | D23: =Калькуляция!M354 -> 110000
A24: =Калькуляция!A355 -> GIN 03 | B24: =Калькуляция!B355 -> Вскрытие абсцесса большой железы предверия | C24: услуга | D24: =Калькуляция!M355 -> 13000
A25: =Калькуляция!A356 -> GIN 04 | B25: =Калькуляция!B356 -> Метросальпинография (непроходимость труб) | C25: услуга | D25: =Калькуляция!M356 -> 16000
A26: =Калькуляция!A357 -> GIN 05 | B26: =Калькуляция!B357 -> Диагностическое выскабливание | C26: услуга | D26: =Калькуляция!M357 -> 16800
A27: =Калькуляция!A358 -> GIN 06 | B27: =Калькуляция!B358 -> Полипэктомия | C27: услуга | D27: =Калькуляция!M358 -> 13500
A28: =Калькуляция!A359 -> GIN 07 | B28: =Калькуляция!B359 -> Раздельное диагностическое выскабливание | C28: услуга | D28: =Калькуляция!M359 -> 16000
A29: =Калькуляция!A360 -> GIN 08 | B29: =Калькуляция!B360 -> Удаление ВМС | C29: услуга | D29: =Калькуляция!M360 -> 9000
A30: =Калькуляция!A361 -> GIN 09 | B30: =Калькуляция!B361 -> Экстирпация матки | C30: услуга | D30: =Калькуляция!M361 -> 168400
A31: =Калькуляция!A362 -> GIN 10 | B31: =Калькуляция!B362 -> Надвлагалищная ампутация матки | C31: услуга | D31: =Калькуляция!M362 -> 133000
A32: =Калькуляция!A363 -> GIN 11 | B32: =Калькуляция!B363 -> Консервативная миомэктомия | C32: услуга | D32: =Калькуляция!M363 -> 100000
A33: =Калькуляция!A364 -> GIN 12 | B33: =Калькуляция!B364 -> Стерилизация маточных труб Лапаротомически | C33: услуга | D33: =Калькуляция!M364 -> 105000
... A41: =Калькуляция!A372 -> GIN 20 | B41: =Калькуляция!B372 -> Переднезадняя кольпорафия, леваторо пластика, вентро фиксация | C41: услуга | D41: =Калькуляция!M372 -> 100000
B42: =Калькуляция!B373 -> Анестезия
A43: =Калькуляция!A374 -> ANE 01 | B43: =Калькуляция!B374 -> Эпидуральная анальгезия | C43: услуга | D43: =Калькуляция!M374 -> 25200
A44: =Калькуляция!A375 -> ANE 02 | B44: =Калькуляция!B375 -> Эндотрахеальный наркоз | C44: услуга | D44: =Калькуляция!M375 -> 36000
A45: =Калькуляция!A376 -> ANE 03 | B45: =Калькуляция!B376 -> Внутривенный наркоз | C45: услуга | D45: =Калькуляция!M376 -> 12250
A47: ПРИМЕЧАНИЕ:
A48: Стоимость медикаментов будут меняться в зависимости от рыночных цен и курса валют.

Sheet 2 вариант (4)
D1: Утверждаю
D2: Главный врач ГКП на ПХВ «Городская больница №2» управления здравоохранения города Шымкент
D3: _____________Позилов Б.Д.
D4: « » 2024 г.
D6: Приложение №1
A9: ПРЕЙСКУРАНТ ЦЕН ПО ПЛАТНЫМ УСЛУГАМ
A10: ГКП на ПХВ "Городская больница №2" УЗ г.Шымкент
A12: Код услуги | B12: Наименование услуги | C12: Ед.измерения | D12: Стоимость услуги | E12: Примечание
B13: Сервисная палата
A14: PSP 01 | B14: Пребывание в сервисной палате (без питания) | C14: 1 койко/день | D14: 12000
A15: PSP 02 | B15: Пребывание в сервисной палате для сопровождающего (без питания) | C15: 1 койко/день | D15: 7000
A16: PSP 03 | B16: Пребывание в сервисной палате ( без сан.удобств,без питания) | C16: 1 койко/день | D16: 8000
B17: Сервисная палата (нейрохирургия)
A18: PSN 01 | B18: Стоимость 1 койко-дня без учета питания и медикаментов одноместной палаты | C18: 1 койко/день | D18: 20000
A19: PSN 02 | B19: Пребывание пациента в палате пробуждения (до 2 часов) | C19: услуга | D19: 6300
A20: PSN 03 | B20: Пребывание пациента в ОАРИТ | C20: 1 койко/день | D20: 40000
A21: PSN 04 | B21: Индивидуальный пост медицинской сестры на 1-го пациента (24 часа) | C21: сутки | D21: 66200
B22: Свободный выбор врача
A23: SVO 01 | B23: Свободный выбор врача при родах (самопроизвольные роды) | C23: услуга | D23: 70000
A24: SVO 02 | B24: Свободный выбор врача при родах (роды путем кесарева сечения) | C24: услуга | D24: 100000
B25: Партнерские роды
A26: PAR 01 | B26: Услуги привлечения профессионального партнёра при родах из числа сотрудников Предприятия | C26: услуга | D26: 30000
A27: PAR 02 | B27: Услуги привлечения профессионального партнёра при родах иного выбранного лица | C27: услуга | D27: 20000
B28: =[84]Калькуляция!B19 -> Консультативный прием | G28: на дому
A29: KON 01 | B29: Консультативный прием терапевта | C29: услуга | D29: =3683.78+1 -> 3684.78 | F29: 3683.78 | G29: =F29*2 -> 7367.56
A30: KON 01 | B30: Консультативный прием педиатра | C30: услуга | D30: =3683.78+1 -> 3684.78 | F30: 3683.78 | G30: =F30*2 -> 7367.56
A31: KON 01 | B31: Консультативный прием гастроэтеролога | C31: услуга | D31: =4074.32+1 -> 4075.32 | F31: 4074.32 | G31: =F31*2 -> 8148.64
A32: KON 01 | B32: Консультативный прием эндокринолога | C32: услуга | D32: =3905.92+4 -> 3909.92 | F32: 3905.92 | G32: =F32*2 -> 7811.84
A33: KON 01 | B33: Консультативный прием невропотолога | C33: услуга | D33: =3905.92+4 -> 3909.92 | F33: 3905.92 | G33: =F33*2 -> 7811.84
A34: KON 01 | B34: Консультативный прием ревматолога | C34: услуга | D34: =3905.92+4 -> 3909.92 | F34: 3905.92 | G34: =F34*2 -> 7811.84
A35: KON 01 | B35: Консультативный прием пульмонолога | C35: услуга | D35: =3905.92+4 -> 3909.92 | F35: 3905.92 | G35: =F35*2 -> 7811.84
A36: KON 01 | B36: Консультативный прием кардиолога | C36: услуга | D36: =3947.62+2 -> 3949.62 | F36: 3947.62 | G36: =F36*2 -> 7895.24
A37: KON 01 | B37: Консультативный прием аллерголога | C37: услуга | D37: =3905.92+4 -> 3909.92 | F37: 3905.92 | G37: =F37*2 -> 7811.84
A38: KON 01 | B38: Консультативный прием нефролога | C38: услуга | D38: =3905.92+4 -> 3909.92 | F38: 3905.92 | G38: =F38*2 -> 7811.84
A39: KON 01 | B39: Консультативный прием инфекциониста | C39: услуга | D39: =3921.88-2 -> 3919.88 | F39: 3921.88 | G39: =F39*2 -> 7843.76
A40: KON 01 | B40: Консультативный прием сосудистого хирурга | C40: услуга | D40: 4350.44 | F40: 4350.44 | G40: =F40*2 -> 8700.88
A41: KON 01 | B41: Консультативный прием гематолога | C41: услуга | D41: =5101.19-1 -> 5100.19 | F41: 5101.19 | G41: =F41*2 -> 10202.38
A42: KON 02 | B42: Консультативный прием акушера-гинеколога | C42: услуга | D42: 4134.88 | F42: 4134.88 | G42: =F42*2 -> 8269.76
A43: KON 02 | B43: Консультативный прием онколога | C43: услуга | D43: 4350.44 | F43: 4350.44 | G43: =F43*2 -> 8700.88
A44: KON 02 | B44: Консультативный прием маммолога | C44: услуга | D44: =3905.92+4 -> 3909.92 | F44: 3905.92 | G44: =F44*2 -> 7811.84
...

Sheet 2 вариант (3)
B1: Приложение №1
B2: к Договору №_______
B3: от "____" ___________ 2023 г.
A5: ПРЕЙСКУРАНТ ЦЕН
A7: № | B7: Наименование | C7: Цена (без НДС) | D7: ЦЕНА | E7: 1,12 НДС+проезд
A8: 1 | B8: Металлокерамика
A9: 1.1 | B9: Металлокерамическая коронка CoCr (Noritake) | C9: 6000 | D9: =C9*1.2 -> 7200 | E9: =D9*1.6 -> 11520 | F9: =E9+D9+1280 -> 20000
A10: 1.2 | B10: Металлокерамическая коронка CoCr (Ivoclar In Line) | C10: 7000 | D10: =C10*1.2 -> 8400 | E10: =D10*1.6 -> 13440 | F10: =E10+D10 -> 21840
A11: 1.3 | B11: Металлокерамическая коронка на импланте (без абатмента клиники) (Ivoclar In Line) | C11: 12000 | D11: =C11*1.2 -> 14400 | E11: =D11*1.6 -> 23040 | F11: =E11+D11 -> 37440
A12: 1.4 | B12: Металлокерамическая коронка на импланте (винтовая фиксация) (Ivoclar In Line) | C12: 12000 | D12: =C12*1.2 -> 14400 | E12: =D12*1.6 -> 23040 | F12: =E12+D12 -> 37440
A13: 1.5 | B13: Металлокерамическая промежуточные коронки | C13: 6000 | D13: =C13*1.2 -> 7200 | E13: =D13*1.6 -> 11520 | F13: =E13+D13 -> 18720
A14: 1.6 | B14: Искуственная керамическая десна (промежуток до 3-х ед) | C14: 6000 | D14: =C14*1.2 -> 7200 | E14: =D14*1.6 -> 11520 | F14: =E14+D14 -> 18720
A15: 2 | B15: Безметалловая керамика с использованием 3D технологий ExoCAD и CADCAM систем
A16: 2.1 | B16: Циркониевая коронка с индивидуальным нанесением керамической массы Ivoclar (e.max ceram-Германия) | C16: 25000 | D16: =C16*1.2 -> 30000 | E16: =D16*1.6 -> 48000 | F16: =E16+D16 -> 78000
A17: 2.2 | B17: Цельно-фрезерованная коронка из ZrO2 на имплантате 3D-PRO Multilayer | C17: 25000 | D17: =C17*1.2 -> 30000 | E17: =D17*1.6 -> 48000 | F17: =E17+D17 -> 78000
A18: 2.3 | B18: Полная циркониевая анатомическая коронка 3D-PRO Bloomden (Китай) | C18: 25000 | D18: =C18*1.2 -> 30000 | E18: =D18*1.6 -> 48000 | F18: =E18+D18 -> 78000
A19: 2.4 | B19: Индивидуальный абатмент из ZrO2 | C19: 7000 | D19: =C19*1.2 -> 8400 | E19: =D19*1.6 -> 13440 | F19: =E19+D19 -> 21840
A20: 2.5 | B20: Циркониевый абатмент + стоимость платформы | C20: 16000 | D20: =C20*1.2 -> 19200 | E20: =D20*1.6 -> 30720 | F20: =E20+D20 -> 49920
A21: 2.6 | B21: WaxUp с восстановлением полной эстетики зубного ряда с фото протоколом в 3D формате в программе ExoCad | C21: 25000 | D21: =C21*1.2 -> 30000 | E21: =D21*1.6 -> 48000 | F21: =E21+D21 -> 78000
A22: 3 | B22: Безметалловая керамика
A23: 3.1 | B23: Керамическая коронка E.MAX(Германия) (метод окрашивания или с нанесением) | C23: 25000 | D23: 25000 | E23: =D23*1.6 -> 40000 | F23: =E23+D23 -> 65000
A24: 3.2 | B24: Керамическая коронка на имплантате E.MAX (Германия) (метод окрашивания или с нанесением) | C24: 25000 | D24: 25000 | E24: =D24*1.6 -> 40000 | F24: =E24+D24 -> 65000
A25: 3.3 | B25: Винир E.MAX(Германия) (метод окрашивания или с нанесением) | C25: 25000 | D25: 25000 | E25: =D25*1.6 -> 40000 | F25: =E25+D25 -> 65000
A26: 3.4 | B26: Вкладка/накладка E.MAX (Германия) | C26: 20000 | D26: 20000 | E26: =D26*1.6 -> 32000 | F26: =E26+D26 -> 52000
A27: 3.5 | B27: Виниры, вкладки,накладки на рефракторе E.MAX (Германия) | C27: 30000 | D27: 30000 | E27: =D27*1.6 -> 48000 | F27: =E27+D27 -> 78000
A28: 4 | B28: Вкладки | E28: =D28*1.8 -> 0 | F28: =E28+D28 -> 0
A29: 4.1 | B29: Вкладка культевая | C29: 3500 | D29: =C29*1.2 -> 4200 | E29: =D29*1.6 -> 6720 | F29: =E29+D29 -> 10920
A30: 4.2 | B30: Вкладка внутрикорневая разборная CoCr | C30: 3500 | D30: =C30*1.2 -> 4200 | E30: =D30*1.6 -> 6720 | F30: =E30+D30 -> 10920
A31: 4.3 | B31: Вкладка циркониевая разборная | C31: 10000 | D31: =C31*1.2 -> 12000 | E31: =D31*1.6 -> 19200 | F31: =E31+D31 -> 31200
A32: 4.4 | B32: Вкладка культевая циркониевая | C32: 5000 | D32: =C32*1.2 -> 6000 | E32: =D32*1.6 -> 9600 | F32: =E32+D32 -> 15600
A33: 4.5 | B33: Вкладка культевая E.MAX | C33: 20000 | D33: =C33*1.2 -> 24000 | E33: =D33*1.6 -> 38400 | F33: =E33+D33 -> 62400
A34: 5 | B34: Цельнолитая коронка
A35: 5.1 | B35: Цельнолитая коронка Cocr | C35: 3500 | D35: =C35*1.2 -> 4200 | E35: =D35*1.6 -> 6720 | F35: 11000
A36: 6 | B36: Временная реставрация
A37: 6.1 | B37: Временная пластмассовая коронка | C37: 2000 | D37: =C37*1.2 -> 2400 | E37: =D37*1.6 -> 3840 | F37: =E37+D37 -> 6240
A38: 6.2 | B38: Временная пластмассовая отфрезерованная коронка длительного ношения на системе CAD-CAM | C38: 2500 | D38: =C38*1.2 -> 3000 | E38: =D38*1.6 -> 4800 | F38: =E38+D38 -> 7800
A39: 6.3 | B39: Временная коронка на имплантате отфрезерованная (без стоимости абатмента) на системе CAD-CAM | C39: 2500 | D39: =C39*1.2 -> 3000 | E39: =D39*1.6 -> 4800 | F39: =E39+D39 -> 7800
A40: 7 | B40: Диагностика
A41: 7.1 | B41: Диагностическая модель из простого гипса | C41: 3000 | D41: =C41*1.2 -> 3600 | E41: =D41*1.6 -> 5760 | F41: =E41+D41 -> 9360
A42: 7.2 | B42: Диагностическая модель из супер гипса -3,4 класса | C42: 5000 | D42: =C42*1.2 -> 6000 | E42: =D42*1.6 -> 9600 | F42: =E42+D42 -> 15600
...

Sheet 2 вариант (2)
D1: Утверждаю
D2: Главный врач ГКП на ПХВ «Городская больница №2» управления здравоохранения города Шымкент
D3: _____________Позилов Б.Д.
D4: « » 2023 г.
D6: Приложение №1
A9: ПРЕЙСКУРАНТ ЦЕН ПО ПЛАТНЫМ УСЛУГАМ
A10: ГКП на ПХВ "Городская больница №2" УЗ г.Шымкент
A12: Код услуги | B12: Наименование услуги | C12: Ед.измерения | D12: Стоимость услуги | E12: Примечание
B13: ='2024 вариант'!B583 -> Услуги стомотолога
A14: STO 21 | B14: ='[103]медик хир (2)'!$A$7 -> Польный съемный протез | C14: услуга | D14: ='[103]медик хир (2)'!$L$11 -> 25000
A15: STO 22 | B15: ='[103]медик хир (2)'!$A$12 -> Микропротез до 3-х зубов | C15: услуга | D15: ='[103]медик хир (2)'!$L$16 -> 10000
A16: STO 23 | B16: ='[103]медик хир (2)'!$A$17 -> Металлокерамическая коронка CoCr (Noritake) | C16: услуга | D16: ='[103]медик хир (2)'!$L$28 -> 20000
A17: STO 24 | B17: ='[103]медик хир (2)'!$A$29 -> Цельнолитая коронка Cocr | C17: услуга | D17: ='[103]медик хир (2)'!$L$36 -> 11000
A18: STO 25 | B18: ='[103]медик хир (2)'!$A$37 -> Био Дента пласт | C18: услуга | D18: ='[103]медик хир (2)'!$L$41 -> 70000
A20: ПРИМЕЧАНИЕ:
A21: Стоимость медикаментов будут меняться в зависимости от рыночных цен и курса валют.
B24: Главный бухгалтер | D24: Тулебекова Н.Т.
B26: Начальник планово-экономического отдела | D26: Аскербек А.Ғ.
A31: ПРЕЙСКУРАНТ ЦЕН
A32: Лабараторных работ DIASTOM-LAB
A33: № | B33: Наименование | C33: Цена (без НДС) | D33: ЦЕНА | E33: 1,12 НДС+проезд
A34: 1 | B34: Металлокерамика
A35: 1.1 | B35: Металлокерамическая коронка CoCr (Noritake) | C35: 6000 | D35: =C35*1.2 -> 7200 | E35: =D35*1.6 -> 11520 | F35: =E35+D35+1280 -> 20000
A36: 1.2 | B36: Металлокерамическая коронка CoCr (Ivoclar In Line) | C36: 7000 | D36: =C36*1.2 -> 8400 | E36: =D36*1.6 -> 13440 | F36: =E36+D36 -> 21840
A37: 1.3 | B37: Металлокерамическая коронка на импланте (без абатмента клиники) (Ivoclar In Line) | C37: 12000 | D37: =C37*1.2 -> 14400 | E37: =D37*1.6 -> 23040 | F37: =E37+D37 -> 37440
A38: 1.4 | B38: Металлокерамическая коронка на импланте (винтовая фиксация) (Ivoclar In Line) | C38: 12000 | D38: =C38*1.2 -> 14400 | E38: =D38*1.6 -> 23040 | F38: =E38+D38 -> 37440
A39: 1.5 | B39: Металлокерамическая промежуточные коронки | C39: 6000 | D39: =C39*1.2 -> 7200 | E39: =D39*1.6 -> 11520 | F39: =E39+D39 -> 18720
A40: 1.6 | B40: Искуственная керамическая десна (промежуток до 3-х ед) | C40: 6000 | D40: =C40*1.2 -> 7200 | E40: =D40*1.6 -> 11520 | F40: =E40+D40 -> 18720
A41: 2 | B41: Безметалловая керамика с использованием 3D технологий ExoCAD и CADCAM систем
A42: 2.1 | B42: Циркониевая коронка с индивидуальным нанесением керамической массы Ivoclar (e.max ceram-Германия) | C42: 25000 | D42: =C42*1.2 -> 30000 | E42: =D42*1.6 -> 48000 | F42: =E42+D42 -> 78000
A43: 2.2 | B43: Цельно-фрезерованная коронка из ZrO2 на имплантате 3D-PRO Multilayer | C43: 25000 | D43: =C43*1.2 -> 30000 | E43: =D43*1.6 -> 48000 | F43: =E43+D43 -> 78000
A44: 2.3 | B44: Полная циркониевая анатомическая коронка 3D-PRO Bloomden (Китай) | C44: 25000 | D44: =C44*1.2 -> 30000 | E44: =D44*1.6 -> 48000 | F44: =E44+D44 -> 78000
A45: 2.4 | B45: Индивидуальный абатмент из ZrO2 | C45: 7000 | D45: =C45*1.2 -> 8400 | E45: =D45*1.6 -> 13440 | F45: =E45+D45 -> 21840
A46: 2.5 | B46: Циркониевый абатмент + стоимость платформы | C46: 16000 | D46: =C46*1.2 -> 19200 | E46: =D46*1.6 -> 30720 | F46: =E46+D46 -> 49920
A47: 2.6 | B47: WaxUp с восстановлением полной эстетики зубного ряда с фото протоколом в 3D формате в программе ExoCad | C47: 25000 | D47: =C47*1.2 -> 30000 | E47: =D47*1.6 -> 48000 | F47: =E47+D47 -> 78000
A48: 3 | B48: Безметалловая керамика
A49: 3.1 | B49: Керамическая коронка E.MAX(Германия) (метод окрашивания или с нанесением) | C49: 25000 | D49: 25000 | E49: =D49*1.6 -> 40000 | F49: =E49+D49 -> 65000
A50: 3.2 | B50: Керамическая коронка на имплантате E.MAX (Германия) (метод окрашивания или с нанесением) | C50: 25000 | D50: 25000 | E50: =D50*1.6 -> 40000 | F50: =E50+D50 -> 65000
A51: 3.3 | B51: Винир E.MAX(Германия) (метод окрашивания или с нанесением) | C51: 25000 | D51: 25000 | E51: =D51*1.6 -> 40000 | F51: =E51+D51 -> 65000
A52: 3.4 | B52: Вкладка/накладка E.MAX (Германия) | C52: 20000 | D52: 20000 | E52: =D52*1.6 -> 32000 | F52: =E52+D52 -> 52000
...

Sheet анализы лаб 
D1: Утверждено приказом Главного врача ГКП на ПХВ «Городская больница №2» управления здравоохранения города Шымкент Приложение № 1 к приказу Главного врача ГКП на ПХВ «Городская больница №2» управления здравоохранения города Шымкент от «______» февраля 2023 года № _______ н/қ
A3: ПРЕЙСКУРАНТ ЦЕН ПО ПЛАТНЫМ УСЛУГАМ
A4: ГКП на ПХВ "Городская больница №2" УЗ г.Шымкент
A6: Код услуги | B6: Наименование услуги | C6: Ед.измерения | D6: Стоимость услуги | E6: Примечание
B7: =Калькуляция!B175 -> ЛАБОРАТОРИЯ
B8: Лаборатория иммунодотинговых анализов
A9: LAB 78 | B9: ='[104]иммунодотинговый анализ кальку'!B8 -> Антинуклеарный фактор на клеточной линии Hep-2 (АНФ)- титр и тип свечения | C9: услуга | D9: ='[104]иммунодотинговый анализ кальку'!P8 -> 5400
A10: LAB 79 | B10: ='[104]иммунодотинговый анализ кальку'!B9 -> Определение высокоаффинных антител к дс ДНК на клетках С.Luciliae | C10: услуга | D10: ='[104]иммунодотинговый анализ кальку'!P9 -> 6700
A11: LAB 80 | B11: ='[104]иммунодотинговый анализ кальку'!B10 -> Дифференциальная диагностика системный заболеваний соединительной ткани АНФ, дс ДНК, нуклеосомы, гистоны, Sm,SS-A/Ro 60, PO, Jo-1, RNP, SS-B, Scl-70, CENP-B | C11: услуга | D11: ='[104]иммунодотинговый анализ кальку'!P10 -> 20000
A12: LAB 81 | B12: ='[104]иммунодотинговый анализ кальку'!B11 -> Антинейтрофильные цитоплазмические антитела lgG(cANCA) скрининговый тест | C12: услуга | D12: ='[104]иммунодотинговый анализ кальку'!P11 -> 7800
A13: LAB 82 | B13: ='[104]иммунодотинговый анализ кальку'!B12 -> Антитела lgG к базальной мембране клубочков почек (GBM) | C13: услуга | D13: ='[104]иммунодотинговый анализ кальку'!P12 -> 11400
A14: LAB 83 | B14: ='[104]иммунодотинговый анализ кальку'!B13 -> Дифференциальная диагностика быстропрогрессирующего гломерулонефрита и васкулитов: Антитела к базальной мембране клубочка (БМК), анти-ПР3, анти-MPO | C14: услуга | D14: ='[105]иммунодотинговый анализ кальку'!$P$13 -> 17700
A15: LAB 84 | B15: ='[104]иммунодотинговый анализ кальку'!B14 -> Иммуноблот для дифференциальной диагностики аутоиммунных заболеваний печени, IgG (антитела к gp210, sp100, LKM1, M2, SLA, F-actin, LC1) и АНФ | C15: услуга | D15: ='[104]иммунодотинговый анализ кальку'!P14 -> 25000
A16: LAB 85 | B16: ='[104]иммунодотинговый анализ кальку'!B15 -> Скрининг аутоиммунных заболеваний ЖКТ: АНФ и определениe антиядерных, антимитохондриальных, антигладкомышечных, антипариетальных антител (ANA/AMA/ASMA/APCA) | C16: услуга | D16: ='[104]иммунодотинговый анализ кальку'!P15 -> 11800
A17: LAB 86 | B17: ='[104]иммунодотинговый анализ кальку'!B16 -> Диагностика целиакии: Определение антител IgA к эндомизию (EmA), к тканевой трансглутаминазе (tTG2), дезаминированному пептиду глиадина (DG), с контролем общего иммуноглобулина A (IgA) | C17: услуга | D17: ='[104]иммунодотинговый анализ кальку'!P16 -> 12700
B18: ='изм 2023'!B19 -> Анализы методом иммунохемилюминесценции
A19: LAB 87 | B19: ='[104]иммунодотинговый анализ ка (2'!B7 -> Определение свободного тироксина (T4) в сыворотке крови методом иммунохемилюминесценции | C19: услуга | D19: ='[104]иммунодотинговый анализ ка (2'!P7 -> 4000
A20: LAB 88 | B20: ='[104]иммунодотинговый анализ ка (2'!B8 -> Определение свободного трийодтиронина (T3) в сыворотке крови методом иммунохемилюминесценции | C20: услуга | D20: ='[104]иммунодотинговый анализ ка (2'!P8 -> 4100
A21: LAB 89 | B21: ='[104]иммунодотинговый анализ ка (2'!B9 -> Определение общего трииодтиронина (T3) в сыворотке крови методом иммунохемилюминесценции | C21: услуга | D21: ='[104]иммунодотинговый анализ ка (2'!P9 -> 3800
A22: LAB 90 | B22: ='[104]иммунодотинговый анализ ка (2'!B10 -> Определение общего тироксина (T4) в сыворотке крови методом иммунохемилюминесценции | C22: услуга | D22: ='[104]иммунодотинговый анализ ка (2'!P10 -> 3800
A23: LAB 91 | B23: ='[104]иммунодотинговый анализ ка (2'!B11 -> Определение антител к тиреопероксидазе (а-ТПО) в сыворотке крови методом иммунохемилюминесценции | C23: услуга | D23: ='[104]иммунодотинговый анализ ка (2'!P11 -> 5600
A24: LAB 92 | B24: ='[104]иммунодотинговый анализ ка (2'!B12 -> Определение тиреоглобулина в сыворотке крови методом иммунохемилюминесценции | C24: услуга | D24: ='[104]иммунодотинговый анализ ка (2'!P12 -> 5100
A25: LAB 93 | B25: ='[104]иммунодотинговый анализ ка (2'!B13 -> Определение антител к тиреоглобулину (АТ к ТГ) в сыворотке крови методом иммунохемилюминесценции | C25: услуга | D25: ='[104]иммунодотинговый анализ ка (2'!P13 -> 4800
A26: LAB 94 | B26: ='[104]иммунодотинговый анализ ка (2'!B14 -> Определение тиреотропного гормона (ТТГ) в сыворотке крови методом иммунохемилюминесценции | C26: услуга | D26: ='[104]иммунодотинговый анализ ка (2'!P14 -> 4500
A27: LAB 95 | B27: ='[104]иммунодотинговый анализ ка (2'!B15 -> Определение витамина B 12 методом иммунохемилюминесценции | C27: услуга | D27: ='[104]иммунодотинговый анализ ка (2'!P15 -> 3800
A28: LAB 96 | B28: ='[104]иммунодотинговый анализ ка (2'!B16 -> Определение фолатов методом иммунохемилюминисценции | C28: услуга | D28: ='[104]иммунодотинговый анализ ка (2'!P16 -> 3800
A29: LAB 97 | B29: ='[104]иммунодотинговый анализ ка (2'!B17 -> Определение трансферина в сыворотке крови | C29: услуга | D29: ='[104]иммунодотинговый анализ ка (2'!P17 -> 9200
A30: LAB 98 | B30: ='[104]иммунодотинговый анализ ка (2'!B18 -> Определение тропонина в сыворотке крови методом иммунохемилюминесценцииценции | C30: услуга | D30: ='[104]иммунодотинговый анализ ка (2'!P18 -> 7500
... A69: LAB 137 | B69: ='[104]иммунодотинговый анализ ка (2'!B57 -> Определение прокальцитонина в сыворотке крови методом иммунохемилюминисценции | C69: услуга | D69: ='[104]иммунодотинговый анализ ка (2'!P57 -> 12500
A70: LAB 138 | B70: ='[104]иммунодотинговый анализ ка (2'!B58 -> Забор крови | C70: услуга | D70: 600
A71: ПРИМЕЧАНИЕ:
A72: Стоимость медикаментов будут меняться в зависимости от рыночных цен и курса валют.

Sheet изм 2023
D1: Утверждено приказом Главного врача ГКП на ПХВ «Городская больница №2» управления здравоохранения города Шымкент Приложение № 1 к приказу Главного врача ГКП на ПХВ «Городская больница №2» управления здравоохранения города Шымкент от «______» февраля 2023 года № _______ н/қ
A3: ПРЕЙСКУРАНТ ЦЕН ПО ПЛАТНЫМ УСЛУГАМ
A4: ГКП на ПХВ "Городская больница №2" УЗ г.Шымкент
A6: Код услуги | B6: Наименование услуги | C6: Ед.измерения | D6: Стоимость услуги | E6: Примечание
B7: =Калькуляция!B175 -> ЛАБОРАТОРИЯ
B8: Лаборатория иммунодотинговых анализов
A9: LAB 77 | B9: ='[104]иммунодотинговый анализ кальку'!B7 -> ANA-Иммуноблот для качественного определения 12 антител IgG к ядерным, цитоплазматическим антигенам (дсДНК, нуклеосомы, гистоны, Sm, SS-A/Ro 60, P0, Jo-1, RNP, SS-A/Ro 52, SS-B, Scl-70, CENP-B). | C9: услуга | D9: ='[104]иммунодотинговый анализ кальку'!P7 -> 35000 | E9: 34582.01
A10: LAB 78 | B10: ='[104]иммунодотинговый анализ кальку'!B8 -> Антинуклеарный фактор на клеточной линии Hep-2 (АНФ)- титр и тип свечения | C10: услуга | D10: ='[104]иммунодотинговый анализ кальку'!P8 -> 5400
A11: LAB 79 | B11: ='[104]иммунодотинговый анализ кальку'!B9 -> Определение высокоаффинных антител к дс ДНК на клетках С.Luciliae | C11: услуга | D11: ='[104]иммунодотинговый анализ кальку'!P9 -> 6700
A12: LAB 80 | B12: ='[104]иммунодотинговый анализ кальку'!B10 -> Дифференциальная диагностика системный заболеваний соединительной ткани АНФ, дс ДНК, нуклеосомы, гистоны, Sm,SS-A/Ro 60, PO, Jo-1, RNP, SS-B, Scl-70, CENP-B | C12: услуга | D12: ='[104]иммунодотинговый анализ кальку'!P10 -> 20000
A13: LAB 81 | B13: ='[104]иммунодотинговый анализ кальку'!B11 -> Антинейтрофильные цитоплазмические антитела lgG(cANCA) скрининговый тест | C13: услуга | D13: ='[104]иммунодотинговый анализ кальку'!P11 -> 7800
A14: LAB 82 | B14: ='[104]иммунодотинговый анализ кальку'!B12 -> Антитела lgG к базальной мембране клубочков почек (GBM) | C14: услуга | D14: ='[104]иммунодотинговый анализ кальку'!P12 -> 11400
A15: LAB 83 | B15: ='[104]иммунодотинговый анализ кальку'!B13 -> Дифференциальная диагностика быстропрогрессирующего гломерулонефрита и васкулитов: Антитела к базальной мембране клубочка (БМК), анти-ПР3, анти-MPO | C15: услуга | D15: ='[104]иммунодотинговый анализ кальку'!P13 -> 10900
A16: LAB 84 | B16: ='[104]иммунодотинговый анализ кальку'!B14 -> Иммуноблот для дифференциальной диагностики аутоиммунных заболеваний печени, IgG (антитела к gp210, sp100, LKM1, M2, SLA, F-actin, LC1) и АНФ | C16: услуга | D16: ='[104]иммунодотинговый анализ кальку'!P14 -> 25000
A17: LAB 85 | B17: ='[104]иммунодотинговый анализ кальку'!B15 -> Скрининг аутоиммунных заболеваний ЖКТ: АНФ и определениe антиядерных, антимитохондриальных, антигладкомышечных, антипариетальных антител (ANA/AMA/ASMA/APCA) | C17: услуга | D17: ='[104]иммунодотинговый анализ кальку'!P15 -> 11800
A18: LAB 86 | B18: ='[104]иммунодотинговый анализ кальку'!B16 -> Диагностика целиакии: Определение антител IgA к эндомизию (EmA), к тканевой трансглутаминазе (tTG2), дезаминированному пептиду глиадина (DG), с контролем общего иммуноглобулина A (IgA) | C18: услуга | D18: ='[104]иммунодотинговый анализ кальку'!P16 -> 12700
B19: Анализы методом иммунохемилюминесценции
A20: LAB 87 | B20: ='[104]иммунодотинговый анализ ка (2'!B7 -> Определение свободного тироксина (T4) в сыворотке крови методом иммунохемилюминесценции | C20: услуга | D20: ='[104]иммунодотинговый анализ ка (2'!P7 -> 4000 | E20: 1947.09
A21: LAB 88 | B21: ='[104]иммунодотинговый анализ ка (2'!B8 -> Определение свободного трийодтиронина (T3) в сыворотке крови методом иммунохемилюминесценции | C21: услуга | D21: ='[104]иммунодотинговый анализ ка (2'!P8 -> 4100 | E21: 2234.43
A22: LAB 89 | B22: ='[104]иммунодотинговый анализ ка (2'!B9 -> Определение общего трииодтиронина (T3) в сыворотке крови методом иммунохемилюминесценции | C22: услуга | D22: ='[104]иммунодотинговый анализ ка (2'!P9 -> 3800 | E22: 1181.66
A23: LAB 90 | B23: ='[104]иммунодотинговый анализ ка (2'!B10 -> Определение общего тироксина (T4) в сыворотке крови методом иммунохемилюминесценции | C23: услуга | D23: ='[104]иммунодотинговый анализ ка (2'!P10 -> 3800 | E23: 1181.66
A24: LAB 91 | B24: ='[104]иммунодотинговый анализ ка (2'!B11 -> Определение антител к тиреопероксидазе (а-ТПО) в сыворотке крови методом иммунохемилюминесценции | C24: услуга | D24: ='[104]иммунодотинговый анализ ка (2'!P11 -> 5600 | E24: 2432.91
A25: LAB 92 | B25: ='[104]иммунодотинговый анализ ка (2'!B12 -> Определение тиреоглобулина в сыворотке крови методом иммунохемилюминесценции | C25: услуга | D25: ='[104]иммунодотинговый анализ ка (2'!P12 -> 5100 | E25: 3936.02
A26: LAB 93 | B26: ='[104]иммунодотинговый анализ ка (2'!B13 -> Определение антител к тиреоглобулину (АТ к ТГ) в сыворотке крови методом иммунохемилюминесценции | C26: услуга | D26: ='[104]иммунодотинговый анализ ка (2'!P13 -> 4800 | E26: 2423.94
A27: LAB 94 | B27: ='[104]иммунодотинговый анализ ка (2'!B14 -> Определение тиреотропного гормона (ТТГ) в сыворотке крови методом иммунохемилюминесценции | C27: услуга | D27: ='[104]иммунодотинговый анализ ка (2'!P14 -> 4500 | E27: 1167.85
A28: LAB 95 | B28: ='[104]иммунодотинговый анализ ка (2'!B15 -> Определение витамина B 12 методом иммунохемилюминесценции | C28: услуга | D28: ='[104]иммунодотинговый анализ ка (2'!P15 -> 3800 | E28: 980.66
A29: LAB 96 | B29: ='[104]иммунодотинговый анализ ка (2'!B16 -> Определение фолатов методом иммунохемилюминисценции | C29: услуга | D29: ='[104]иммунодотинговый анализ ка (2'!P16 -> 3800 | E29: 2755.27
A30: LAB 97 | B30: ='[104]иммунодотинговый анализ ка (2'!B17 -> Определение трансферина в сыворотке крови | C30: услуга | D30: ='[104]иммунодотинговый анализ ка (2'!P17 -> 9200 | E30: 867.21
A31: LAB 98 | B31: ='[104]иммунодотинговый анализ ка (2'!B18 -> Определение тропонина в сыворотке крови методом иммунохемилюминесценцииценции | C31: услуга | D31: ='[104]иммунодотинговый анализ ка (2'!P18 -> 7500 | E31: 6560.33
... A70: LAB 137 | B70: ='[104]иммунодотинговый анализ ка (2'!B57 -> Определение прокальцитонина в сыворотке крови методом иммунохемилюминисценции | C70: услуга | D70: ='[104]иммунодотинговый анализ ка (2'!P57 -> 12500 | E70: 8088.1
A72: ПРИМЕЧАНИЕ:
A73: Стоимость медикаментов будут меняться в зависимости от рыночных цен и курса валют.

Sheet 2023
D1: Утверждено приказом Главного врача ГКП на ПХВ «Городская больница №2» управления здравоохранения города Шымкент Приложение № 1 к приказу Главного врача ГКП на ПХВ «Городская больница №2» управления здравоохранения города Шымкент от «______» ________ 2023 года № _______ н/қ
A3: ПРЕЙСКУРАНТ ЦЕН ПО ПЛАТНЫМ УСЛУГАМ
A4: ГКП на ПХВ "Городская больница №2" УЗ г.Шымкент
A6: Код услуги | B6: Наименование услуги | C6: Ед.измерения | D6: Стоимость услуги | E6: Примечание
B7: =[84]Калькуляция!B19 -> Консультативный прием
A8: =Калькуляция!A18 -> KON 01 | B8: =Калькуляция!B18 -> Консультативный прием терапевтического профиля (терапевт, педиатр, гастроэтеролог, эндокринолог, невропотолог, ревматолог, пульмонолог, кардиолог, аллерголог, нефролог, инфекционист, сосудистый хирург, гематолог) | C8: услуга | D8: =Калькуляция!M18 -> 5000 | E8: каждая услуга по показаниям
A9: KON 01 | B9: Консультативный прием терапевтического профиля (терапевт, педиатр, гастроэтеролог, эндокринолог, невропотолог, ревматолог, пульмонолог, кардиолог, аллерголог, нефролог, инфекционист, сосудистый хирург, гематолог) Выбор врача | C9: услуга | D9: 7000 | E9: каждая услуга по показаниям
A10: KON 01 | B10: Консультативный прием терапевтического профиля (терапевт, педиатр, гастроэтеролог, эндокринолог, невропотолог, ревматолог, пульмонолог, кардиолог, аллерголог, нефролог, инфекционист, сосудистый хирург, гематолог) Выбор врача | C10: услуга | D10: 10000 | E10: каждая услуга по показаниям
A11: =Калькуляция!A19 -> KON 02 | B11: =Калькуляция!B19 -> Консультативный прием хирургического профиля (акушер-гинеколог, онколог, маммолог, офтальмолог, профпатолог, проктолог, хирург, уролог, оториноларинголог, стомотолог) | C11: услуга | D11: =Калькуляция!M19 -> 5500 | E11: каждая услуга по показаниям
A12: KON 02 | B12: Консультативный прием хирургического профиля (акушер-гинеколог, онколог, маммолог, офтальмолог, профпатолог, проктолог, хирург, уролог, оториноларинголог, стомотолог) Выбор врача | C12: услуга | D12: 7000 | E12: каждая услуга по показаниям
A13: KON 02 | B13: Консультативный прием хирургического профиля (акушер-гинеколог, онколог, маммолог, офтальмолог, профпатолог, проктолог, хирург, уролог, оториноларинголог, стомотолог) | C13: услуга | D13: 10000 | E13: каждая услуга по показаниям
A14: KON 03 | B14: Повторный консультативный прием в течении 7 календарных дней | C14: услуга | D14: 3000 | E14: каждая услуга по показаниям
A15: =Калькуляция!A20 -> KON 04 | B15: =Калькуляция!B20 -> Консультация нейрохирурга | C15: услуга | D15: =Калькуляция!M20 -> 10000
B16: =[84]хронометраж!A11 -> Консультативный прием на дому
A17: =[84]Калькуляция!A24 -> KPD 01 | B17: Консультативный прием терапевтического профиля (терапевт, педиатр, гастроэтеролог, эндокринолог, невропотолог, ревматолог, пульмонолог, кардиолог, аллерголог, нефролог, инфекционист, сосудистый хирург) на дому | C17: услуга | D17: =[84]Калькуляция!M24 -> 8700 | E17: каждая услуга по показаниям
A18: =[84]Калькуляция!A25 -> KPD 02 | B18: Консультативный прием хирургического профиля (акушер-гинеколог, онколог, маммолог, офтальмолог, профпатолог, проктолог, хирург, уролог, оториноларинголог, стомотолог) на дому | C18: услуга | D18: =[84]Калькуляция!M25 -> 9200 | E18: каждая услуга по показаниям
B19: =[84]Калькуляция!B26 -> Медицинский осмотр
A20: =[84]Калькуляция!A27 -> MOO 01 | B20: =[84]Калькуляция!B27 -> Медицинское обследование лиц, поступающих на учебу, работу по форме№075/У (терапевт, нарколог, психиатр, наркотест, профпатолог,микрореакция, флюорография) | C20: услуга | D20: =[84]Калькуляция!M27 -> 4000
B21: =Калькуляция!B26 -> Рентген
A22: =Калькуляция!A27 -> REN 01 | B22: =Калькуляция!B27 -> Рентгенография таза | C22: услуга | D22: =Калькуляция!M27 -> 3000
A23: =Калькуляция!A28 -> REN 02 | B23: =Калькуляция!B28 -> R-графия тазобедренного сустава | C23: услуга | D23: =Калькуляция!M28 -> 3000
A24: =Калькуляция!A29 -> REN 03 | B24: =Калькуляция!B29 -> R-графия лёгких (обзорная) | C24: услуга | D24: =Калькуляция!M29 -> 3000
A25: =Калькуляция!A30 -> REN 04 | B25: =Калькуляция!B30 -> R-графия лёгких (боковая) | C25: услуга | D25: =Калькуляция!M30 -> 2500
A26: =Калькуляция!A31 -> REN 05 | B26: =Калькуляция!B31 -> R-графия брюшной полости | C26: услуга | D26: =Калькуляция!M31 -> 3500
A27: =Калькуляция!A32 -> REN 06 | B27: =Калькуляция!B32 -> Внутривенная урография | C27: услуга | D27: =Калькуляция!M32 -> 7000
A28: =Калькуляция!A33 -> REN 07 | B28: =Калькуляция!B33 -> R-графия грудного отдела позвоночника ( в 1 проекции) | C28: услуга | D28: =Калькуляция!M33 -> 4200
A29: =Калькуляция!A34 -> REN 08 | B29: =Калькуляция!B34 -> R-графия грудного отдела позвоночника ( в 2 проекции) | C29: услуга | D29: =Калькуляция!M34 -> 4200
A30: =Калькуляция!A35 -> REN 09 | B30: =Калькуляция!B35 -> R-графия черепа ( в 1 проекции) | C30: услуга | D30: =Калькуляция!M35 -> 3200
A31: =Калькуляция!A36 -> REN 10 | B31: =Калькуляция!B36 -> R-графия черепа ( в 2 проекциях) | C31: услуга | D31: =Калькуляция!M36 -> 2900
A32: =Калькуляция!A37 -> REN 11 | B32: =Калькуляция!B37 -> R-графия пояснично-крестцового отдела позвоночника ( в 1 проекции) | C32: услуга | D32: =Калькуляция!M37 -> 4200
A33: =Калькуляция!A38 -> REN 12 | B33: =Калькуляция!B38 -> R-графия пояснично-крестцового отдела позвоночника ( в 2 проекциях) | C33: услуга | D33: =Калькуляция!M38 -> 4500
... A46: =Калькуляция!A51 -> REN 25 | B46: =Калькуляция!B51 -> R-графия лопатки | C46: услуга | D46: =Калькуляция!M51 -> 2200
A47: =Калькуляция!A52 -> REN 26 | B47: =Калькуляция!B52 -> Фистулография | C47: услуга | D47: 10000
A48: =Калькуляция!A53 -> REN 27 | B48: =Калькуляция!B53 -> Гистеросальпингография | C48: услуга | D48: =Калькуляция!M53 -> 7000
A49: =Калькуляция!A54 -> REN 28 | B49: =Калькуляция!B54 -> Флюорография | C49: услуга | D49: =Калькуляция!M54 -> 900
A50: =Калькуляция!A55 -> REN 29 | B50: =Калькуляция!B55 -> Прицельная R-графия пазух носа | C50: услуга | D50: 4000
A51: =Калькуляция!A56 -> REN 30 | B51: =Калькуляция!B56 -> Прицельная R-графия костей носа | C51: услуга | D51: =Калькуляция!M56 -> 2200
A52: =Калькуляция!A57 -> REN 31 | B52: =Калькуляция!B57 -> Прицельная R-графия костей стопы | C52: услуга | D52: =Калькуляция!M57 -> 2500
A53: =Калькуляция!A58 -> REN 32 | B53: =Калькуляция!B58 -> Прицельная R-графия костей кисти | C53: услуга | D53: =Калькуляция!M58 -> 3000
A54: =Калькуляция!A59 -> REN 33 | B54: =Калькуляция!B59 -> Томография | C54: услуга | D54: =Калькуляция!M59 -> 3600
...

Sheet 2024 вариант
D1: Утверждаю
D2: Главный врач ГКП на ПХВ «Городская больница №2» управления здравоохранения города Шымкент
D3: _____________Позилов Б.Д.
D4: « » 2024 г.
D6: Приложение №1
A9: ПРЕЙСКУРАНТ ЦЕН ПО ПЛАТНЫМ УСЛУГАМ
A10: ГКП на ПХВ "Городская больница №2" УЗ г.Шымкент
A12: Код услуги | B12: Наименование услуги | C12: Ед.измерения | D12: Стоимость услуги | E12: Примечание
B13: Сервисная палата
A14: PSP 01 | B14: Пребывание в сервисной палате (без питания) | C14: 1 койко/день | D14: 12000
A15: PSP 02 | B15: Пребывание в сервисной палате для сопровождающего (без питания) | C15: 1 койко/день | D15: 7000
A16: PSP 03 | B16: Пребывание в сервисной палате ( без сан.удобств,без питания) | C16: 1 койко/день | D16: 8000
B17: Сервисная палата (нейрохирургия)
A18: PSN 01 | B18: Стоимость 1 койко-дня без учета питания и медикаментов одноместной палаты | C18: 1 койко/день | D18: 20000
A19: PSN 02 | B19: Пребывание пациента в палате пробуждения (до 2 часов) | C19: услуга | D19: 6300
A20: PSN 03 | B20: Пребывание пациента в ОАРИТ | C20: 1 койко/день | D20: 40000
A21: PSN 04 | B21: Индивидуальный пост медицинской сестры на 1-го пациента (24 часа) | C21: сутки | D21: 66200
B22: Свободный выбор врача
A23: SVO 01 | B23: Свободный выбор врача при родах (самопроизвольные роды) | C23: услуга | D23: 70000
A24: SVO 02 | B24: Свободный выбор врача при родах (роды путем кесарева сечения) | C24: услуга | D24: 100000
B25: Партнерские роды
A26: PAR 01 | B26: Услуги привлечения профессионального партнёра при родах из числа сотрудников Предприятия | C26: услуга | D26: 30000
A27: PAR 02 | B27: Услуги привлечения профессионального партнёра при родах иного выбранного лица | C27: услуга | D27: 20000
B28: =[84]Калькуляция!B19 -> Консультативный прием | G28: на дому
A29: KON 01 | B29: Консультативный прием терапевта | C29: услуга | D29: =3683.78+1 -> 3684.78 | F29: 3683.78 | G29: =F29*2 -> 7367.56
A30: KON 01 | B30: Консультативный прием педиатра | C30: услуга | D30: =3683.78+1 -> 3684.78 | F30: 3683.78 | G30: =F30*2 -> 7367.56
A31: KON 01 | B31: Консультативный прием гастроэтеролога | C31: услуга | D31: =4074.32+1 -> 4075.32 | F31: 4074.32 | G31: =F31*2 -> 8148.64
A32: KON 01 | B32: Консультативный прием эндокринолога | C32: услуга | D32: =3905.92+4 -> 3909.92 | F32: 3905.92 | G32: =F32*2 -> 7811.84
A33: KON 01 | B33: Консультативный прием невропотолога | C33: услуга | D33: =3905.92+4 -> 3909.92 | F33: 3905.92 | G33: =F33*2 -> 7811.84
A34: KON 01 | B34: Консультативный прием ревматолога | C34: услуга | D34: =3905.92+4 -> 3909.92 | F34: 3905.92 | G34: =F34*2 -> 7811.84
A35: KON 01 | B35: Консультативный прием пульмонолога | C35: услуга | D35: =3905.92+4 -> 3909.92 | F35: 3905.92 | G35: =F35*2 -> 7811.84
A36: KON 01 | B36: Консультативный прием кардиолога | C36: услуга | D36: =3947.62+2 -> 3949.62 | F36: 3947.62 | G36: =F36*2 -> 7895.24
A37: KON 01 | B37: Консультативный прием аллерголога | C37: услуга | D37: =3905.92+4 -> 3909.92 | F37: 3905.92 | G37: =F37*2 -> 7811.84
A38: KON 01 | B38: Консультативный прием нефролога | C38: услуга | D38: =3905.92+4 -> 3909.92 | F38: 3905.92 | G38: =F38*2 -> 7811.84
A39: KON 01 | B39: Консультативный прием инфекциониста | C39: услуга | D39: =3921.88-2 -> 3919.88 | F39: 3921.88 | G39: =F39*2 -> 7843.76
A40: KON 01 | B40: Консультативный прием сосудистого хирурга | C40: услуга | D40: 4350.44 | F40: 4350.44 | G40: =F40*2 -> 8700.88
A41: KON 01 | B41: Консультативный прием гематолога | C41: услуга | D41: =5101.19-1 -> 5100.19 | F41: 5101.19 | G41: =F41*2 -> 10202.38
A42: KON 02 | B42: Консультативный прием акушера-гинеколога | C42: услуга | D42: 4134.88 | F42: 4134.88 | G42: =F42*2 -> 8269.76
A43: KON 02 | B43: Консультативный прием онколога | C43: услуга | D43: 4350.44 | F43: 4350.44 | G43: =F43*2 -> 8700.88
A44: KON 02 | B44: Консультативный прием маммолога | C44: услуга | D44: =3905.92+4 -> 3909.92 | F44: 3905.92 | G44: =F44*2 -> 7811.84
...
